BEGIN:VCALENDAR
VERSION:2.0
PRODID:-//PB NE/Central Wisconsin - ECPv6.15.20//NONSGML v1.0//EN
CALSCALE:GREGORIAN
METHOD:PUBLISH
X-WR-CALNAME:PB NE/Central Wisconsin
X-ORIGINAL-URL:https://pbnewi.com
X-WR-CALDESC:Events for PB NE/Central Wisconsin
REFRESH-INTERVAL;VALUE=DURATION:PT1H
X-Robots-Tag:noindex
X-PUBLISHED-TTL:PT1H
BEGIN:VTIMEZONE
TZID:America/Chicago
BEGIN:DAYLIGHT
TZOFFSETFROM:-0600
TZOFFSETTO:-0500
TZNAME:CDT
DTSTART:20250309T080000
END:DAYLIGHT
BEGIN:STANDARD
TZOFFSETFROM:-0500
TZOFFSETTO:-0600
TZNAME:CST
DTSTART:20251102T070000
END:STANDARD
BEGIN:DAYLIGHT
TZOFFSETFROM:-0600
TZOFFSETTO:-0500
TZNAME:CDT
DTSTART:20260308T080000
END:DAYLIGHT
BEGIN:STANDARD
TZOFFSETFROM:-0500
TZOFFSETTO:-0600
TZNAME:CST
DTSTART:20261101T070000
END:STANDARD
BEGIN:DAYLIGHT
TZOFFSETFROM:-0600
TZOFFSETTO:-0500
TZNAME:CDT
DTSTART:20270314T080000
END:DAYLIGHT
BEGIN:STANDARD
TZOFFSETFROM:-0500
TZOFFSETTO:-0600
TZNAME:CST
DTSTART:20271107T070000
END:STANDARD
END:VTIMEZONE
BEGIN:VEVENT
DTSTART;TZID=America/Chicago:20260515T100000
DTEND;TZID=America/Chicago:20260515T170000
DTSTAMP:20260421T184334
CREATED:20260217T033256Z
LAST-MODIFIED:20260217T033741Z
UID:10000249-1778839200-1778864400@pbnewi.com
SUMMARY:Essense of Australia Luxe Curve Event
DESCRIPTION:Curvy brides\, it’s time to shine!\n\nGet ready to flaunt those curves and find your dream dress at our Essense of Australia Luxe Curve Event happening May 15-22! Shop styles from the Spring 2026 collection\, which will be presented in store exclusively in sizes 18-30\, this weekend only. \n\nPop some bubbly with your best babes\, and celebrate finding your perfect dress! Brides who purchase a dress from Essense of Australia will also receive an exclusive discount!\nYou don’t want to miss this incredible collection! From basque waists and ballgowns to romance and glamour\, their newest collection brings timeless elegance and modern details to your love story.\n\nSpots are limited\, so book your appointment NOW\, because this event is going to fill up fast!\n\n*Trunk show is by appointment only*
URL:https://pbnewi.com/event/essense-of-australia-luxe-curve-event/2026-05-15/
LOCATION:Tie the Knot Bridal Boutique\, 520 North Broadway suite 180\, Green Bay\, WI\, 54303
CATEGORIES:Trunk Show
ATTACH;FMTTYPE=image/jpeg:https://eadn-wc04-15428093.nxedge.io/wp-content/uploads/2026/02/essense-of-australia-luxe-curve-event.jpeg
ORGANIZER;CN="Tie the Knot Bridal Boutique":MAILTO:info@tietheknotwi.com
END:VEVENT
BEGIN:VEVENT
DTSTART;TZID=America/Chicago:20260516T090000
DTEND;TZID=America/Chicago:20260516T163000
DTSTAMP:20260421T184334
CREATED:20260217T033256Z
LAST-MODIFIED:20260217T033741Z
UID:10000250-1778922000-1778949000@pbnewi.com
SUMMARY:Essense of Australia Luxe Curve Event
DESCRIPTION:Curvy brides\, it’s time to shine!\n\nGet ready to flaunt those curves and find your dream dress at our Essense of Australia Luxe Curve Event happening May 15-22! Shop styles from the Spring 2026 collection\, which will be presented in store exclusively in sizes 18-30\, this weekend only. \n\nPop some bubbly with your best babes\, and celebrate finding your perfect dress! Brides who purchase a dress from Essense of Australia will also receive an exclusive discount!\nYou don’t want to miss this incredible collection! From basque waists and ballgowns to romance and glamour\, their newest collection brings timeless elegance and modern details to your love story.\n\nSpots are limited\, so book your appointment NOW\, because this event is going to fill up fast!\n\n*Trunk show is by appointment only*
URL:https://pbnewi.com/event/essense-of-australia-luxe-curve-event/2026-05-16/
LOCATION:Tie the Knot Bridal Boutique\, 520 North Broadway suite 180\, Green Bay\, WI\, 54303
CATEGORIES:Trunk Show
ATTACH;FMTTYPE=image/jpeg:https://eadn-wc04-15428093.nxedge.io/wp-content/uploads/2026/02/essense-of-australia-luxe-curve-event.jpeg
ORGANIZER;CN="Tie the Knot Bridal Boutique":MAILTO:info@tietheknotwi.com
END:VEVENT
BEGIN:VEVENT
DTSTART;TZID=America/Chicago:20260522T100000
DTEND;TZID=America/Chicago:20260522T170000
DTSTAMP:20260421T184334
CREATED:20260217T033256Z
LAST-MODIFIED:20260217T033741Z
UID:10000251-1779444000-1779469200@pbnewi.com
SUMMARY:Essense of Australia Luxe Curve Event
DESCRIPTION:Curvy brides\, it’s time to shine!\n\nGet ready to flaunt those curves and find your dream dress at our Essense of Australia Luxe Curve Event happening May 15-22! Shop styles from the Spring 2026 collection\, which will be presented in store exclusively in sizes 18-30\, this weekend only. \n\nPop some bubbly with your best babes\, and celebrate finding your perfect dress! Brides who purchase a dress from Essense of Australia will also receive an exclusive discount!\nYou don’t want to miss this incredible collection! From basque waists and ballgowns to romance and glamour\, their newest collection brings timeless elegance and modern details to your love story.\n\nSpots are limited\, so book your appointment NOW\, because this event is going to fill up fast!\n\n*Trunk show is by appointment only*
URL:https://pbnewi.com/event/essense-of-australia-luxe-curve-event/2026-05-22/
LOCATION:Tie the Knot Bridal Boutique\, 520 North Broadway suite 180\, Green Bay\, WI\, 54303
CATEGORIES:Trunk Show
ATTACH;FMTTYPE=image/jpeg:https://eadn-wc04-15428093.nxedge.io/wp-content/uploads/2026/02/essense-of-australia-luxe-curve-event.jpeg
ORGANIZER;CN="Tie the Knot Bridal Boutique":MAILTO:info@tietheknotwi.com
END:VEVENT
BEGIN:VEVENT
DTSTART;TZID=America/Chicago:20260523T090000
DTEND;TZID=America/Chicago:20260523T163000
DTSTAMP:20260421T184334
CREATED:20260217T033256Z
LAST-MODIFIED:20260217T033741Z
UID:10000252-1779526800-1779553800@pbnewi.com
SUMMARY:Essense of Australia Luxe Curve Event
DESCRIPTION:Curvy brides\, it’s time to shine!\n\nGet ready to flaunt those curves and find your dream dress at our Essense of Australia Luxe Curve Event happening May 15-22! Shop styles from the Spring 2026 collection\, which will be presented in store exclusively in sizes 18-30\, this weekend only. \n\nPop some bubbly with your best babes\, and celebrate finding your perfect dress! Brides who purchase a dress from Essense of Australia will also receive an exclusive discount!\nYou don’t want to miss this incredible collection! From basque waists and ballgowns to romance and glamour\, their newest collection brings timeless elegance and modern details to your love story.\n\nSpots are limited\, so book your appointment NOW\, because this event is going to fill up fast!\n\n*Trunk show is by appointment only*
URL:https://pbnewi.com/event/essense-of-australia-luxe-curve-event/2026-05-23/
LOCATION:Tie the Knot Bridal Boutique\, 520 North Broadway suite 180\, Green Bay\, WI\, 54303
CATEGORIES:Trunk Show
ATTACH;FMTTYPE=image/jpeg:https://eadn-wc04-15428093.nxedge.io/wp-content/uploads/2026/02/essense-of-australia-luxe-curve-event.jpeg
ORGANIZER;CN="Tie the Knot Bridal Boutique":MAILTO:info@tietheknotwi.com
END:VEVENT
END:VCALENDAR