BEGIN:VCALENDAR
VERSION:2.0
PRODID:-//PB NE/Central Wisconsin - ECPv6.15.20//NONSGML v1.0//EN
CALSCALE:GREGORIAN
METHOD:PUBLISH
X-WR-CALNAME:PB NE/Central Wisconsin
X-ORIGINAL-URL:https://pbnewi.com
X-WR-CALDESC:Events for PB NE/Central Wisconsin
REFRESH-INTERVAL;VALUE=DURATION:PT1H
X-Robots-Tag:noindex
X-PUBLISHED-TTL:PT1H
BEGIN:VTIMEZONE
TZID:America/Chicago
BEGIN:DAYLIGHT
TZOFFSETFROM:-0600
TZOFFSETTO:-0500
TZNAME:CDT
DTSTART:20250309T080000
END:DAYLIGHT
BEGIN:STANDARD
TZOFFSETFROM:-0500
TZOFFSETTO:-0600
TZNAME:CST
DTSTART:20251102T070000
END:STANDARD
BEGIN:DAYLIGHT
TZOFFSETFROM:-0600
TZOFFSETTO:-0500
TZNAME:CDT
DTSTART:20260308T080000
END:DAYLIGHT
BEGIN:STANDARD
TZOFFSETFROM:-0500
TZOFFSETTO:-0600
TZNAME:CST
DTSTART:20261101T070000
END:STANDARD
BEGIN:DAYLIGHT
TZOFFSETFROM:-0600
TZOFFSETTO:-0500
TZNAME:CDT
DTSTART:20270314T080000
END:DAYLIGHT
BEGIN:STANDARD
TZOFFSETFROM:-0500
TZOFFSETTO:-0600
TZNAME:CST
DTSTART:20271107T070000
END:STANDARD
END:VTIMEZONE
BEGIN:VEVENT
DTSTART;TZID=America/Chicago:20260419T130000
DTEND;TZID=America/Chicago:20260419T160000
DTSTAMP:20260422T045122
CREATED:20260105T060000Z
LAST-MODIFIED:20260107T154441Z
UID:10000219-1776603600-1776614400@pbnewi.com
SUMMARY:The Wisconsin Wedding Showcase
DESCRIPTION:Spring Wisconsin Wedding Showcase \nThe Wisconsin Wedding Showcase brings together the region’s finest wedding vendors\, offering everything you need to plan your dream day in one place.\nDiscover stunning ceremony and reception venues\,  hotels offering convenient guest room blocks\, and sample delicious cakes and sweets from local bakeries. Browse beautiful décor\, rentals\, and floral designs to bring your vision to life. Meet the top DJs\, photo booth providers\, and entertainment pros ready to make your celebration unforgettable—plus talented photographers and videographers showcasing their work. \nJoin us to meet top wedding vendors from Appleton\, Fond du Lac\, Green Bay\, Green Lake\, Kohler\, Manitowoc\, Neenah\, Oshkosh\, Ripon\, Sheboygan\, New London\, and neighboring areas.
URL:https://pbnewi.com/event/the-wisconsin-wedding-showcase-5/
LOCATION:Bridgewood Resort Hotel and Conference Center\, 1000 Cameron Way\, Neenah\, WI\, 54956
CATEGORIES:Wedding Show
ATTACH;FMTTYPE=image/jpeg:https://eadn-wc04-15428093.nxedge.io/wp-content/uploads/2025/08/wisconsin-wedding-showcase-logo.jpg
ORGANIZER;CN="The Wisconsin Wedding Showcase":MAILTO:sales@thewisconsinweddingshowcase.com
END:VEVENT
END:VCALENDAR