BEGIN:VCALENDAR
VERSION:2.0
PRODID:-//PB NE/Central Wisconsin - ECPv6.15.20//NONSGML v1.0//EN
CALSCALE:GREGORIAN
METHOD:PUBLISH
X-ORIGINAL-URL:https://pbnewi.com
X-WR-CALDESC:Events for PB NE/Central Wisconsin
REFRESH-INTERVAL;VALUE=DURATION:PT1H
X-Robots-Tag:noindex
X-PUBLISHED-TTL:PT1H
BEGIN:VTIMEZONE
TZID:America/Chicago
BEGIN:DAYLIGHT
TZOFFSETFROM:-0600
TZOFFSETTO:-0500
TZNAME:CDT
DTSTART:20250309T080000
END:DAYLIGHT
BEGIN:STANDARD
TZOFFSETFROM:-0500
TZOFFSETTO:-0600
TZNAME:CST
DTSTART:20251102T070000
END:STANDARD
BEGIN:DAYLIGHT
TZOFFSETFROM:-0600
TZOFFSETTO:-0500
TZNAME:CDT
DTSTART:20260308T080000
END:DAYLIGHT
BEGIN:STANDARD
TZOFFSETFROM:-0500
TZOFFSETTO:-0600
TZNAME:CST
DTSTART:20261101T070000
END:STANDARD
BEGIN:DAYLIGHT
TZOFFSETFROM:-0600
TZOFFSETTO:-0500
TZNAME:CDT
DTSTART:20270314T080000
END:DAYLIGHT
BEGIN:STANDARD
TZOFFSETFROM:-0500
TZOFFSETTO:-0600
TZNAME:CST
DTSTART:20271107T070000
END:STANDARD
BEGIN:DAYLIGHT
TZOFFSETFROM:-0600
TZOFFSETTO:-0500
TZNAME:CDT
DTSTART:20280312T080000
END:DAYLIGHT
BEGIN:STANDARD
TZOFFSETFROM:-0500
TZOFFSETTO:-0600
TZNAME:CST
DTSTART:20281105T070000
END:STANDARD
END:VTIMEZONE
BEGIN:VEVENT
DTSTART;TZID=America/Chicago:20260523T090000
DTEND;TZID=America/Chicago:20260523T163000
DTSTAMP:20260422T165916
CREATED:20260217T033256Z
LAST-MODIFIED:20260217T033741Z
UID:10000252-1779526800-1779553800@pbnewi.com
SUMMARY:Essense of Australia Luxe Curve Event
DESCRIPTION:Curvy brides\, it’s time to shine!\n\nGet ready to flaunt those curves and find your dream dress at our Essense of Australia Luxe Curve Event happening May 15-22! Shop styles from the Spring 2026 collection\, which will be presented in store exclusively in sizes 18-30\, this weekend only. \n\nPop some bubbly with your best babes\, and celebrate finding your perfect dress! Brides who purchase a dress from Essense of Australia will also receive an exclusive discount!\nYou don’t want to miss this incredible collection! From basque waists and ballgowns to romance and glamour\, their newest collection brings timeless elegance and modern details to your love story.\n\nSpots are limited\, so book your appointment NOW\, because this event is going to fill up fast!\n\n*Trunk show is by appointment only*
URL:https://pbnewi.com/event/essense-of-australia-luxe-curve-event/2026-05-23/
LOCATION:Tie the Knot Bridal Boutique\, 520 North Broadway suite 180\, Green Bay\, WI\, 54303
CATEGORIES:Trunk Show
ATTACH;FMTTYPE=image/jpeg:https://eadn-wc04-15428093.nxedge.io/wp-content/uploads/2026/02/essense-of-australia-luxe-curve-event.jpeg
ORGANIZER;CN="Tie the Knot Bridal Boutique":MAILTO:info@tietheknotwi.com
END:VEVENT
BEGIN:VEVENT
DTSTART;TZID=America/Chicago:20260726T130000
DTEND;TZID=America/Chicago:20260726T150000
DTSTAMP:20260422T165916
CREATED:20251021T050000Z
LAST-MODIFIED:20251021T153909Z
UID:10000235-1785070800-1785078000@pbnewi.com
SUMMARY:Wisconsin Wedding Showcase July 2026
DESCRIPTION:The Wisconsin Wedding Showcase will be held July 26 at the Bridgewood Resort Hotel and Conference Center in Neenah and will feature the area’s top wedding vendors\, everything you need to easily plan your dream Fox Valley  wedding! \nFind the perfect florists to adorn your big day with stunning blooms. Looking for wedding entertainment? Top wedding DJ’s\, photo booths\, and more will be on hand. Discover area venues for both ceremonies\, rehearsal dinners\, and  receptions. Find hotels for your guests.  Indulge in delectable samples from area caterers and bakers. Top wedding Photographers and Videographers to capture your day will also be on hand to answer your questions and display their work. Travel specialists to help navigate your dream honeymoon! \nJoin us to meet top wedding vendors from Appleton\, Fond du Lac\, Green Bay\, Green Lake\, Kohler\, Manitowoc\, Neenah\, Oshkosh\, Ripon\, Sheboygan\, New London\, and neighboring areas.
URL:https://pbnewi.com/event/wisconsin-wedding-showcase-july-2026/
LOCATION:Bridgewood Resort Hotel and Conference Center\, 1000 Cameron Way\, Neenah\, WI\, 54956
CATEGORIES:Wedding Show
ATTACH;FMTTYPE=image/jpeg:https://eadn-wc04-15428093.nxedge.io/wp-content/uploads/2025/08/wisconsin-wedding-showcase-logo.jpg
ORGANIZER;CN="The Wisconsin Wedding Showcase":MAILTO:sales@thewisconsinweddingshowcase.com
END:VEVENT
BEGIN:VEVENT
DTSTART;TZID=America/Chicago:20260726T130000
DTEND;TZID=America/Chicago:20260726T200000
DTSTAMP:20260422T165916
CREATED:20260211T223109Z
LAST-MODIFIED:20260224T225846Z
UID:10000238-1785070800-1785096000@pbnewi.com
SUMMARY:Your Wedding Preview
DESCRIPTION:Dearest Gentle Reader\, \n\nIt is with the greatest delight that we announce an occasion most enchanting… \nYou are cordially invited to Your Wedding Preview—a most splendid Bridgerton-inspired affair hosted at Heidel House Hotel & Conference Center\, where romance\, elegance\, and wedding-day wonder shall take center stage. \nStep into the celebration of your dreams before the grand day arrives. Whether you are newly betrothed\, deep in the throes of planning\, or simply seeking a charming afternoon out—this affair is perfectly suited for lovebirds in search of a date night\, friends craving a girls’ day\, and all who adore a touch of luxury and whimsy. \nWhat Awaits You at this Enchanting Affair?\n.Prepare to be swept away by:✨ Esteemed local wedding vendors of the finest reputation✨ Exquisite bridal inspiration worthy of the ton✨ Expert demonstrations and guidance fit for any future bride or groom✨ Marvelous prizes\, raffles\, and giveaways—because who doesn’t love a bit of fortune?✨ A day brimming with elegance\, imagination\, and indulgence \nA Most Delightful Wedding Day Timeline\n12:00 PM – 1:30 PM | Mini Engagement Photo Session(reserved for the first 3–5 couples to register—how thrilling!) \n1:30 PM – 2:30 PM | Event Registration \n2:30 PM – 3:45 PM | Cocktail Hour(passed hors d’oeuvres\, a string quartet to set the mood\, meet-and-greets with vendors\, and the raffle table) \n4:00 PM – 5:30 PM | Speeches\, Dinner\, and Prizes announced \n5:30 PM – 8:00 PM | The Dance Floor Opens & Dessert is Served(an evening fit for a grand ballroom… one might even expect scandalous twirls and stolen glances) \n\nRaffle Grand Prizes Most Coveted\n\nOne lucky guest may walk away with treasures such as: \nA free wedding in our Sandstone Ballroom for up to 70 guests\, buffet-style meal\, two delightful appetizers\, paired with a $300 bar credit \nAn Escapade Experience for up to 40 guests with food and beverage \nThree complimentary overnight guest rooms\, accompanied by a $600 spa credit—because every diamond deserves to be pampered \nDress Code: A touch of Regency charm is most encouraged—pastels\, pearls\, florals\, gloves\, and ballroom-worthy finery. Need inspiration\, dear reader? Inspiration \nTicket Info:\n\n\nWedding Guest | Complete Experience\n1:30pm – 8:00pm\n$125.00 \n\n\n\n\n\nWedding Guest | General Admission\n1:30pm – 4:00pm *Dinner Not Included*\n$45.00\n\n\n \n 
URL:https://pbnewi.com/event/your-wedding-preview/
LOCATION:Heidel House Hotel & Conference Center\, 653 Illinois Ave\, Green Lake\, WI\, 54941\, United States
CATEGORIES:Wedding Show
ATTACH;FMTTYPE=image/webp:https://eadn-wc04-15428093.nxedge.io/wp-content/uploads/2026/02/your-wedding-preview-heidel-house-copy.webp
ORGANIZER;CN="Heidel House Hotel & Conference Center":MAILTO:weddings@heidelhouse.com
END:VEVENT
BEGIN:VEVENT
DTSTART;TZID=America/Chicago:20261004T110000
DTEND;TZID=America/Chicago:20261004T140000
DTSTAMP:20260422T165916
CREATED:20260216T201704Z
LAST-MODIFIED:20260311T021325Z
UID:10000239-1791111600-1791122400@pbnewi.com
SUMMARY:Forever & Always- Bridal Expo and Resale Event
DESCRIPTION:Explore everything you need to plan your perfect day\, all in one place! \nMeet talented DJs\, florists\, photographers\, and venues\, along with decorators\, bridal shops\, and wedding planners\, ready to bring your vision to life. Discover delicious desserts and catering\, stylish rentals and décor\, mobile bars\, beauty pros\, invitation/stationary specialists\, jewelers\, transportation services\, photobooths\, and even honeymoon experts to help you plan the getaway of your dreams. \nBonus: Past brides will be present\, selling their gently used wedding items! \n 
URL:https://pbnewi.com/event/forever-always-bridal-expo-and-resale-event/
LOCATION:Central WI Convention+Expo Center\, 10101 Market St.\, Rothschild\, WI\, 54472\, United States
CATEGORIES:Wedding Show
ATTACH;FMTTYPE=image/webp:https://eadn-wc04-15428093.nxedge.io/wp-content/uploads/2025/08/archer-bliss-floral-shoot-drollin108-copy.webp
ORGANIZER;CN="Central Wisconsin Convention + Expo Center":MAILTO:events@cwconventionexpo.com
END:VEVENT
BEGIN:VEVENT
DTSTART;TZID=America/Chicago:20261018T130000
DTEND;TZID=America/Chicago:20261018T150000
DTSTAMP:20260422T165916
CREATED:20250720T050000Z
LAST-MODIFIED:20251021T153840Z
UID:10000228-1792328400-1792335600@pbnewi.com
SUMMARY:The Wisconsin Wedding Showcase October 2026
DESCRIPTION:Join us Sunday\, October 18\, 2026 for The Wisconsin Wedding Showcase at the Oshkosh Waterfront Hotel and will feature the Fox Valley’s finest wedding vendors\, everything you need to plan your dream wedding! \nExplore a variety of invitations\, including save-the-dates\, thank you cards\, and signage. Find the perfect florist to add a burst of blooms your big day.The regions top wedding entertainment including DJ’s\, photo booths\, and more will be on hand. Discover both intimate and large scale venues to host your wedding reception. Find area hotels for your guest room blocks.Sample cuisine & sweets from area caterers and bakers. Top wedding Photographers & Videographers will also be on hand to answer your questions and display their work.Plan your dream honeymoon with a travel expert. \nBe sure to attend and meet the areas best wedding vendors from Appleton\, Fond du Lac\, Green Bay\, Green Lake\, Kohler\, Manitowoc\, Oshkosh\, Ripon\, Sheboygan\, New London\, and neighboring areas.
URL:https://pbnewi.com/event/the-wisconsin-wedding-showcase-october-2026/
LOCATION:Oshkosh Waterfront Hotel & Conference Center\, 2 N Main Street\, Oshkosh\, WI\, 54901
CATEGORIES:Wedding Show
ATTACH;FMTTYPE=image/jpeg:https://eadn-wc04-15428093.nxedge.io/wp-content/uploads/2025/08/wisconsin-wedding-showcase-logo.jpg
ORGANIZER;CN="The Wisconsin Wedding Showcase":MAILTO:sales@thewisconsinweddingshowcase.com
GEO:44.0144888;'-88.5369475
X-APPLE-STRUCTURED-LOCATION;VALUE=URI;X-ADDRESS=Oshkosh Waterfront Hotel & Conference Center 2 N Main Street Oshkosh WI 54901;X-APPLE-RADIUS=500;X-TITLE=2 N Main Street:geo:'-88.5369475,44.0144888
END:VEVENT
BEGIN:VEVENT
DTSTART;TZID=America/Chicago:20261108T130000
DTEND;TZID=America/Chicago:20261108T150000
DTSTAMP:20260422T165916
CREATED:20260204T144945Z
LAST-MODIFIED:20260311T021232Z
UID:10000236-1794142800-1794150000@pbnewi.com
SUMMARY:Moments to Remember Wedding & Event Expo
DESCRIPTION:Join us for the Moments to Remember Wedding & Event Expo! \nGet ready for an unforgettable evening of inspiration\, ideas\, and excitement. Whether you’re planning your dream wedding or a special celebration\, this is the place to be. \nDiscover the latest trends in bridal fashion\, décor\, and event design while meeting talented local vendors who can help bring your vision to life. \n 
URL:https://pbnewi.com/event/moments-to-remember-wedding-event-expo/
LOCATION:Take Flight Enterprise Studio\, 6451 South Business Drive\, Sheboygan\, WI\, 53081
CATEGORIES:Wedding Show
ATTACH;FMTTYPE=image/webp:https://eadn-wc04-15428093.nxedge.io/wp-content/uploads/2025/11/moments-to-remember-202.6webp.webp
ORGANIZER;CN="Take Flight Enterprise Studio":MAILTO:info@takeflightenterprise.com
END:VEVENT
BEGIN:VEVENT
DTSTART;TZID=America/Chicago:20270307T110000
DTEND;TZID=America/Chicago:20270307T140000
DTSTAMP:20260422T165916
CREATED:20260309T050000Z
LAST-MODIFIED:20260310T233809Z
UID:10000225-1804417200-1804428000@pbnewi.com
SUMMARY:20th Annual Wedding Show!
DESCRIPTION:Stadium View Event Hall’s 20th Annual Wedding Show \nYou’re invited to explore everything you need to plan your big day at Stadium View Event Hall’s 20th Annual Wedding Show. Meet experienced wedding professionals offering services such as photography\, entertainment\, florals\, invitations\, décor\, limousines and buses\, and much more. \nBrides who register will be eligible for great door prizes.
URL:https://pbnewi.com/event/19th-annual-wedding-show/
LOCATION:Stadium View Banquet Hall & Conference Center\, 1963 Holmgren Way\, Green Bay\, WI\, 54304
CATEGORIES:Wedding Show
ATTACH;FMTTYPE=image/jpeg:https://eadn-wc04-15428093.nxedge.io/wp-content/uploads/2025/08/2e998643-f2f9-4140-824c-395ea7054b36_1_201_a.jpeg
GEO:44.4975225;'-88.0530643
X-APPLE-STRUCTURED-LOCATION;VALUE=URI;X-ADDRESS=Stadium View Banquet Hall & Conference Center 1963 Holmgren Way Green Bay WI 54304;X-APPLE-RADIUS=500;X-TITLE=1963 Holmgren Way:geo:'-88.0530643,44.4975225
END:VEVENT
END:VCALENDAR