BEGIN:VCALENDAR
VERSION:2.0
PRODID:-//PB NE/Central Wisconsin - ECPv6.15.20//NONSGML v1.0//EN
CALSCALE:GREGORIAN
METHOD:PUBLISH
X-WR-CALNAME:PB NE/Central Wisconsin
X-ORIGINAL-URL:https://pbnewi.com
X-WR-CALDESC:Events for PB NE/Central Wisconsin
REFRESH-INTERVAL;VALUE=DURATION:PT1H
X-Robots-Tag:noindex
X-PUBLISHED-TTL:PT1H
BEGIN:VTIMEZONE
TZID:America/Chicago
BEGIN:DAYLIGHT
TZOFFSETFROM:-0600
TZOFFSETTO:-0500
TZNAME:CDT
DTSTART:20240310T080000
END:DAYLIGHT
BEGIN:STANDARD
TZOFFSETFROM:-0500
TZOFFSETTO:-0600
TZNAME:CST
DTSTART:20241103T070000
END:STANDARD
BEGIN:DAYLIGHT
TZOFFSETFROM:-0600
TZOFFSETTO:-0500
TZNAME:CDT
DTSTART:20250309T080000
END:DAYLIGHT
BEGIN:STANDARD
TZOFFSETFROM:-0500
TZOFFSETTO:-0600
TZNAME:CST
DTSTART:20251102T070000
END:STANDARD
BEGIN:DAYLIGHT
TZOFFSETFROM:-0600
TZOFFSETTO:-0500
TZNAME:CDT
DTSTART:20260308T080000
END:DAYLIGHT
BEGIN:STANDARD
TZOFFSETFROM:-0500
TZOFFSETTO:-0600
TZNAME:CST
DTSTART:20261101T070000
END:STANDARD
BEGIN:DAYLIGHT
TZOFFSETFROM:-0600
TZOFFSETTO:-0500
TZNAME:CDT
DTSTART:20270314T080000
END:DAYLIGHT
BEGIN:STANDARD
TZOFFSETFROM:-0500
TZOFFSETTO:-0600
TZNAME:CST
DTSTART:20271107T070000
END:STANDARD
END:VTIMEZONE
BEGIN:VEVENT
DTSTART;TZID=America/Chicago:20260125T120000
DTEND;TZID=America/Chicago:20260125T143000
DTSTAMP:20260422T165600
CREATED:20251021T050000Z
LAST-MODIFIED:20251021T172800Z
UID:10000215-1769342400-1769351400@pbnewi.com
SUMMARY:It's All About the Bride Winter Wedding Expo
DESCRIPTION:Attention Brides & Grooms! \nGrab your wedding party\, families of the bride/groom and head over to the Little River Country Club for “ It’s All About the Bride “ wedding show on January 25th noon- 2:30pm ! \nDo Bridal will be on hand to present beautiful bridal fashions and tuxedo styles. \nThe ares best wedding vendors will be on hand; entertainment ( DJ\, VJ\, Photo Booth) \, florists\, catering\, invitations\, venues\, limousines\, skincare\, photography\, decorating designers\, wedding cake bakery\, memorabilia and so much more ….
URL:https://pbnewi.com/event/its-all-about-the-bride-winter-wedding-expo/
LOCATION:Little River Country Club\, N2235 Shore Drive\, Marinette\, WI\, 54143
CATEGORIES:Wedding Show
ATTACH;FMTTYPE=image/jpeg:https://eadn-wc04-15428093.nxedge.io/wp-content/uploads/2025/08/bigstock-214740214.jpg
END:VEVENT
BEGIN:VEVENT
DTSTART;TZID=America/Chicago:20260118T110000
DTEND;TZID=America/Chicago:20260118T140000
DTSTAMP:20260422T165600
CREATED:20251021T132022Z
LAST-MODIFIED:20251121T192242Z
UID:10000234-1768734000-1768744800@pbnewi.com
SUMMARY:Berkshire Bridal Expo 2026
DESCRIPTION:Say “I do” to planning made easy at the 2026 Berkshire Bridal Expo! \nYou’ll find everything you need to bring your dream wedding to life—all under one roof.\nTickets: $10 each-\nOn Sale November 1 – available online or in person at Black Pig Restaurant\, B’loonie Gifts\, and Caan’s Floral.\nMeet and connect with the area’s top wedding and event professionals\, including venues\, photographers\, florists\, DJs\, planners\, bakers\, and more. Get expert advice\, discover new ideas\, and start planning your perfect day with confidence.\nEnjoy exclusive vendor giveaways\, complimentary swag bags\, and a Grand Prize Drawing for registered brides and couples. \nIt’s an event you won’t want to miss!
URL:https://pbnewi.com/event/berkshire-bridal-expo-2026/
LOCATION:The Berkshire Event Venue\, 821 N. 8th Street\, Sheboygan\, WI\, 53081
CATEGORIES:Wedding Show
ATTACH;FMTTYPE=image/webp:https://eadn-wc04-15428093.nxedge.io/wp-content/uploads/2025/10/2026-berkshire-bridal-expo-real-estate-flyer-copy.webp
ORGANIZER;CN="The Berkshire Event Venue":MAILTO:emily@theberkshiresheboygan.com
END:VEVENT
BEGIN:VEVENT
DTSTART;TZID=America/Chicago:20251116T110000
DTEND;TZID=America/Chicago:20251116T140000
DTSTAMP:20260422T165600
CREATED:20250604T050000Z
LAST-MODIFIED:20251223T121049Z
UID:10000218-1763290800-1763301600@pbnewi.com
SUMMARY:Annual Fall Flea Market and Wedding Expo
DESCRIPTION:The Fall Flea Market and Wedding Expo at Venue 404 is an excellent opportunity to find your wedding decorations at a cost savings! Search through gently used wedding accent pieces and decorations such as signage\, silk florals\, chargers\, candles and more! While you are there\, tour the historic wedding venue and meet local wedding vendors. \nReturning: Early Bird VIP Access!\nDue to high demand\, we’re offering an exclusive Early Bird VIP Pass so you can skip the lines and get first dibs on the best finds! \nVIP Access – $25 (Limited Availability)\n– NEW: Swag Bag (Provided by Bride To Brides)\n– 11 AM entry\n– Bride + Up to 4 Guests\n– 2 Free Drink Tickets  \nGeneral Admission – FREE!\n– 12–2 PM entry (NO EARLY ACCESS!)\n– Bride + Up to 4 Guests \nRegistration is required for all attendees. Secure your spot now! \nGet your Tickets and Register here: https://www.eventbrite.com/e/the-fall-wedding-flea-market-expo-at-venue-404-with-bride-to-brides-tickets-1395513340969 \nVendors\, please fill out Our Vendor Inquiry Form: \nResale Table – $25 (Limited Availability)\n– 8ft covered table + 2 chairs\n– 1 Free Drink Ticket \nhttps://www.honeybook.com/…/cf_id/683f778da92e3d0019f709de \n  \n \n \n  \n 
URL:https://pbnewi.com/event/the-fall-wedding-flea-market/
LOCATION:Venue 404\, 404 North Main Street\, Oshkosh\, WI\, 54901
CATEGORIES:Wedding Show
ATTACH;FMTTYPE=image/jpeg:https://eadn-wc04-15428093.nxedge.io/wp-content/uploads/2025/08/2025-fall-flea-market-and-wedding-expo-copy.jpg
END:VEVENT
END:VCALENDAR