BEGIN:VCALENDAR
VERSION:2.0
PRODID:-//PB NE/Central Wisconsin - ECPv6.15.20//NONSGML v1.0//EN
CALSCALE:GREGORIAN
METHOD:PUBLISH
X-ORIGINAL-URL:https://pbnewi.com
X-WR-CALDESC:Events for PB NE/Central Wisconsin
REFRESH-INTERVAL;VALUE=DURATION:PT1H
X-Robots-Tag:noindex
X-PUBLISHED-TTL:PT1H
BEGIN:VTIMEZONE
TZID:America/Chicago
BEGIN:DAYLIGHT
TZOFFSETFROM:-0600
TZOFFSETTO:-0500
TZNAME:CDT
DTSTART:20250309T080000
END:DAYLIGHT
BEGIN:STANDARD
TZOFFSETFROM:-0500
TZOFFSETTO:-0600
TZNAME:CST
DTSTART:20251102T070000
END:STANDARD
BEGIN:DAYLIGHT
TZOFFSETFROM:-0600
TZOFFSETTO:-0500
TZNAME:CDT
DTSTART:20260308T080000
END:DAYLIGHT
BEGIN:STANDARD
TZOFFSETFROM:-0500
TZOFFSETTO:-0600
TZNAME:CST
DTSTART:20261101T070000
END:STANDARD
BEGIN:DAYLIGHT
TZOFFSETFROM:-0600
TZOFFSETTO:-0500
TZNAME:CDT
DTSTART:20270314T080000
END:DAYLIGHT
BEGIN:STANDARD
TZOFFSETFROM:-0500
TZOFFSETTO:-0600
TZNAME:CST
DTSTART:20271107T070000
END:STANDARD
END:VTIMEZONE
BEGIN:VEVENT
DTSTART;TZID=America/Chicago:20260412T130000
DTEND;TZID=America/Chicago:20260412T170000
DTSTAMP:20260421T235149
CREATED:20260402T022908Z
LAST-MODIFIED:20260409T181938Z
UID:10000264-1775998800-1776013200@pbnewi.com
SUMMARY:Wedding Open House 2026
DESCRIPTION:Calling all Wisconsin brides\, grooms\, future in-laws\, wedding planners\, and vendors — this one’s for you! \nWe’re throwing open the doors at two of the most beautiful event spaces in the area. Round Lake Farms\, Brillion’s premier wedding and event venue\, and the breathtaking Stone Prairie will both be welcoming guests for a special open house event. \nCome explore a variety of wedding styles and layout inspirations\, meet our wonderful team of event specialists\, and enjoy light bites from our talented Chef along with a glass of bubbly to toast the occasion. A stellar lineup of local wedding vendors will also be on hand to answer all your planning. \nEVENT HIGHLIGHTS: \n\nAn open-house style showcase spanning both venues\nThoughtfully styled venue tours featuring a variety of wedding looks and layouts\nThe opportunity to connect with our event teams at each location\nA curated selection of our preferred vendors\nLight bites prepared by our in-house chef\nChampagne to sip and enjoy throughout the event\n\nCLICK HERE to RSVP \nEmily Kettner Photography
URL:https://pbnewi.com/event/wedding-open-house-2026/
LOCATION:Round Lake Farms\, 1111 Round Lake Rd.\, Brillion\, Wisconsin\, 54110
CATEGORIES:Open House
ATTACH;FMTTYPE=image/webp:https://eadn-wc04-15428093.nxedge.io/wp-content/uploads/2026/04/2026-open-house-at-round-lake-farms-copy.webp
ORGANIZER;CN="Round Lake Farms":MAILTO:hospitality@ariensco.com
END:VEVENT
END:VCALENDAR